BEGIN:VCALENDAR
VERSION:2.0
PRODID:-//Jazz Club u Muniaka - ECPv4.9.4//NONSGML v1.0//EN
CALSCALE:GREGORIAN
METHOD:PUBLISH
X-WR-CALNAME:Jazz Club u Muniaka
X-ORIGINAL-URL:https://jazzumuniaka.club
X-WR-CALDESC:Events for Jazz Club u Muniaka
BEGIN:VTIMEZONE
TZID:"Europe/Warsaw"
BEGIN:DAYLIGHT
TZOFFSETFROM:+0100
TZOFFSETTO:+0200
TZNAME:CEST
DTSTART:20240331T010000
END:DAYLIGHT
BEGIN:STANDARD
TZOFFSETFROM:+0200
TZOFFSETTO:+0100
TZNAME:CET
DTSTART:20241027T010000
END:STANDARD
END:VTIMEZONE
BEGIN:VEVENT
DTSTART;TZID="Europe/Warsaw":20240225T213000
DTEND;TZID="Europe/Warsaw":20240226T010000
DTSTAMP:20260421T105351
CREATED:20240223T224050Z
LAST-MODIFIED:20240225T195330Z
UID:6532-1708896600-1708909200@jazzumuniaka.club
SUMMARY:Piotr Szałajko Quartet
DESCRIPTION:W Jazz Clubie u Muniaka muzyka na żywo grana jest codziennie od 21:30! \nW niedzielę zapraszamy do naszej klubowej piwnicy\, gdzie mogą Państwo spędzić wieczór w przy dźwiękach muzyki wykonywanej przez kwartet Piotra Szałajko. Perkusista zaprosił do współpracy młodych\, utalentowanych muzyków środowiska jazzowego. W repertuarze znane i lubiane standardy jazzowe w autorskich aranżacjach. \nW składzie: \nM. Jędros – gt\nF. Gąsiorowski – p\nM. Pawlikowski – db\nP. Szałajko – dr \n  \nWstęp/Admission Fee – 20 PLN\nZapraszamy! \n
URL:https://jazzumuniaka.club/event/piotr-szalajko-quartet/
LOCATION:Jazz Club u Muniaka\, ul. Floriańska 3\,\, Kraków
CATEGORIES:Koncerty,Polecane
ATTACH;FMTTYPE=image/png:https://jazzumuniaka.club/wp-content/uploads/2024/02/25.02.png
END:VEVENT
END:VCALENDAR