BEGIN:VCALENDAR
VERSION:2.0
PRODID:-//Jazz Club u Muniaka - ECPv4.9.4//NONSGML v1.0//EN
CALSCALE:GREGORIAN
METHOD:PUBLISH
X-WR-CALNAME:Jazz Club u Muniaka
X-ORIGINAL-URL:https://jazzumuniaka.club
X-WR-CALDESC:Events for Jazz Club u Muniaka
BEGIN:VTIMEZONE
TZID:"Europe/Warsaw"
BEGIN:DAYLIGHT
TZOFFSETFROM:+0100
TZOFFSETTO:+0200
TZNAME:CEST
DTSTART:20240331T010000
END:DAYLIGHT
BEGIN:STANDARD
TZOFFSETFROM:+0200
TZOFFSETTO:+0100
TZNAME:CET
DTSTART:20241027T010000
END:STANDARD
END:VTIMEZONE
BEGIN:VEVENT
DTSTART;TZID="Europe/Warsaw":20240922T213000
DTEND;TZID="Europe/Warsaw":20240923T010000
DTSTAMP:20260421T094345
CREATED:20240921T100134Z
LAST-MODIFIED:20240921T100134Z
UID:7069-1727040600-1727053200@jazzumuniaka.club
SUMMARY:Ola Przewoźniak Quartet & Quintet
DESCRIPTION:W Jazz Clubie u Muniaka muzyka na żywo grana jest codziennie od 21:30! \nOd niedzieli do wtorku przygotowaliśmy dla Państwa trzy koncerty utalentowanej oraz utytułowanej wokalistki oraz kompozytorki z Krakowa – Oli Przewoźniak.\nPrzez najbliższe trzy wieczory Przewoźniak zaprezentuje swoją wizję muzyki jazzowej w formule kwartetu oraz kwintetu\, które uzupełnią fenomenalni muzycy krakowskiego środowiska jazzowego. \nW składzie: \n22.09\nO. Przewoźniak – voc\nM. Muszyński – git\nP. Stefańczyk – p\nK. Ropicki – b\nK. Kałuża – dr \n23.09\nO. Przewoźniak – voc\nM. Muszyński – git\nP. Stefańczyk – p\nK. Mysona – db\nP. Przewoźniak – dr \n24.09\nO. Przewoźniak – voc\nP. Stefańczyk – p\nB. Matyasik – db\nP. Przewoźniak – dr \nWstęp/Admission Fee – 20 PLN\nZapraszamy! \n
URL:https://jazzumuniaka.club/event/ola-przewozniak-quartet-quintet/2024-09-22/
LOCATION:Jazz Club u Muniaka\, ul. Floriańska 3\,\, Kraków
CATEGORIES:Koncerty,Polecane
ATTACH;FMTTYPE=image/png:https://jazzumuniaka.club/wp-content/uploads/2024/09/22-24.png
END:VEVENT
END:VCALENDAR