BEGIN:VCALENDAR
VERSION:2.0
PRODID:-//Jazz Club u Muniaka - ECPv4.9.4//NONSGML v1.0//EN
CALSCALE:GREGORIAN
METHOD:PUBLISH
X-WR-CALNAME:Jazz Club u Muniaka
X-ORIGINAL-URL:https://jazzumuniaka.club
X-WR-CALDESC:Events for Jazz Club u Muniaka
BEGIN:VTIMEZONE
TZID:"Europe/Warsaw"
BEGIN:DAYLIGHT
TZOFFSETFROM:+0100
TZOFFSETTO:+0200
TZNAME:CEST
DTSTART:20240331T010000
END:DAYLIGHT
BEGIN:STANDARD
TZOFFSETFROM:+0200
TZOFFSETTO:+0100
TZNAME:CET
DTSTART:20241027T010000
END:STANDARD
END:VTIMEZONE
BEGIN:VEVENT
DTSTART;TZID="Europe/Warsaw":20240222T213000
DTEND;TZID="Europe/Warsaw":20240223T010000
DTSTAMP:20260421T122427
CREATED:20240221T143555Z
LAST-MODIFIED:20240221T143555Z
UID:6527-1708637400-1708650000@jazzumuniaka.club
SUMMARY:Janusz Nowak Quartet
DESCRIPTION:W Jazz Clubie u Muniaka muzyka na żywo grana jest codziennie od 21:30! \nOd czwartku do soboty zapraszamy na koncerty kwartetów sformowanych przez krakowskiego weterana puzonu – Janusza Nowaka.\nArtysta wystąpi w doborowym towarzystwie – na scenie razem z puzonistą wystąpią najlepsi krakowscy muzycy sekcyjni\, dzięki którym klasyczne standardy jazzowe oraz melodie wybitnych puzonistów jazzowych zabiorą nas klimatem do tamtych lat. \n22/23.02\nJ. Nowak – tb\nK. Malczewski – p\nSz. Mika – db\nM. Heller – dr \n24.02\nJ. Nowak – tb\nK. Malczewski – p\nSz. Mika – db\nD. Fortuna – dr \nWstęp/Admission Fee – 35/40 PLN\nZapraszamy! \n
URL:https://jazzumuniaka.club/event/janusz-nowak-quartet-4/2024-02-22/
LOCATION:Jazz Club u Muniaka\, ul. Floriańska 3\,\, Kraków
CATEGORIES:Koncerty,Polecane
ATTACH;FMTTYPE=image/png:https://jazzumuniaka.club/wp-content/uploads/2024/02/22-24.png
END:VEVENT
END:VCALENDAR